BEGIN:VCALENDAR
VERSION:2.0
PRODID:-//Office Group Immobilien - ECPv6.15.14//NONSGML v1.0//EN
CALSCALE:GREGORIAN
METHOD:PUBLISH
X-ORIGINAL-URL:https://office-group.immobilien
X-WR-CALDESC:Veranstaltungen für Office Group Immobilien
REFRESH-INTERVAL;VALUE=DURATION:PT1H
X-Robots-Tag:noindex
X-PUBLISHED-TTL:PT1H
BEGIN:VTIMEZONE
TZID:Europe/Berlin
BEGIN:DAYLIGHT
TZOFFSETFROM:+0100
TZOFFSETTO:+0200
TZNAME:CEST
DTSTART:20240331T010000
END:DAYLIGHT
BEGIN:STANDARD
TZOFFSETFROM:+0200
TZOFFSETTO:+0100
TZNAME:CET
DTSTART:20241027T010000
END:STANDARD
BEGIN:DAYLIGHT
TZOFFSETFROM:+0100
TZOFFSETTO:+0200
TZNAME:CEST
DTSTART:20250330T010000
END:DAYLIGHT
BEGIN:STANDARD
TZOFFSETFROM:+0200
TZOFFSETTO:+0100
TZNAME:CET
DTSTART:20251026T010000
END:STANDARD
BEGIN:DAYLIGHT
TZOFFSETFROM:+0100
TZOFFSETTO:+0200
TZNAME:CEST
DTSTART:20260329T010000
END:DAYLIGHT
BEGIN:STANDARD
TZOFFSETFROM:+0200
TZOFFSETTO:+0100
TZNAME:CET
DTSTART:20261025T010000
END:STANDARD
BEGIN:DAYLIGHT
TZOFFSETFROM:+0100
TZOFFSETTO:+0200
TZNAME:CEST
DTSTART:20270328T010000
END:DAYLIGHT
BEGIN:STANDARD
TZOFFSETFROM:+0200
TZOFFSETTO:+0100
TZNAME:CET
DTSTART:20271031T010000
END:STANDARD
END:VTIMEZONE
BEGIN:VEVENT
DTSTART;TZID=Europe/Berlin:20260417T000000
DTEND;TZID=Europe/Berlin:20260419T235959
DTSTAMP:20260421T143026
CREATED:20250724T171638Z
LAST-MODIFIED:20250724T171847Z
UID:350629-1776384000-1776643199@office-group.immobilien
SUMMARY:FC Bayern München - VfB Stuttgart
DESCRIPTION:Zur Website des FC Bayern München\n\n\n\n\n\n\nAuf dieser Seite können Sie die Anzahl der gewünschten Teilnehmerplätze auswählen. Durch einen Klick auf den Button „Teilnehmen“ wird uns Ihr Reservierungs-Wunsch mitgeteilt. \n\n\n\nBitte beachten Sie: Um möglichst vielen unserer Kunden die Möglichkeit zu bieten\, dieses Angebot wahrzunehmen\, können Sie maximal nur einen Termin mit maximal 4 Teilnehmerplätzen reservieren. Wir prüfen dann die Reservierung und senden Ihnen rechtzeitig vor Veranstaltungsbeginn die Tickets zu. \n\n\n\nZur Sicherheit gleichen Sie die Termine und Uhrzeiten dieser Begegnung noch mit den Listen auf der Website des FC Bayern München ab.
URL:https://office-group.immobilien/event/fc-bayern-muenchen-vfb-stuttgart/
CATEGORIES:Teilnehmerplätze
ATTACH;FMTTYPE=image/jpeg:https://office-group.immobilien/wp-content/uploads/2024/08/FC-Bayern-Muenchen.jpg
END:VEVENT
BEGIN:VEVENT
DTSTART;TZID=Europe/Berlin:20260320T000000
DTEND;TZID=Europe/Berlin:20260322T235959
DTSTAMP:20260421T143026
CREATED:20250724T171458Z
LAST-MODIFIED:20250724T171608Z
UID:350626-1773964800-1774223999@office-group.immobilien
SUMMARY:FC Bayern München - 1. FC Union Berlin
DESCRIPTION:Zur Website des FC Bayern München\n\n\n\n\n\n\nAuf dieser Seite können Sie die Anzahl der gewünschten Teilnehmerplätze auswählen. Durch einen Klick auf den Button „Teilnehmen“ wird uns Ihr Reservierungs-Wunsch mitgeteilt. \n\n\n\nBitte beachten Sie: Um möglichst vielen unserer Kunden die Möglichkeit zu bieten\, dieses Angebot wahrzunehmen\, können Sie maximal nur einen Termin mit maximal 4 Teilnehmerplätzen reservieren. Wir prüfen dann die Reservierung und senden Ihnen rechtzeitig vor Veranstaltungsbeginn die Tickets zu. \n\n\n\nZur Sicherheit gleichen Sie die Termine und Uhrzeiten dieser Begegnung noch mit den Listen auf der Website des FC Bayern München ab.
URL:https://office-group.immobilien/event/fc-bayern-muenchen-1-fc-union-berlin/
CATEGORIES:Teilnehmerplätze
ATTACH;FMTTYPE=image/jpeg:https://office-group.immobilien/wp-content/uploads/2024/08/FC-Bayern-Muenchen.jpg
END:VEVENT
BEGIN:VEVENT
DTSTART;TZID=Europe/Berlin:20260306T000000
DTEND;TZID=Europe/Berlin:20260308T235959
DTSTAMP:20260421T143026
CREATED:20250724T171316Z
LAST-MODIFIED:20250724T171432Z
UID:350623-1772755200-1773014399@office-group.immobilien
SUMMARY:FC Bayern München - Borussia MönchenGladbach
DESCRIPTION:Zur Website des FC Bayern München\n\n\n\n\n\n\nAuf dieser Seite können Sie die Anzahl der gewünschten Teilnehmerplätze auswählen. Durch einen Klick auf den Button „Teilnehmen“ wird uns Ihr Reservierungs-Wunsch mitgeteilt. \n\n\n\nBitte beachten Sie: Um möglichst vielen unserer Kunden die Möglichkeit zu bieten\, dieses Angebot wahrzunehmen\, können Sie maximal nur einen Termin mit maximal 4 Teilnehmerplätzen reservieren. Wir prüfen dann die Reservierung und senden Ihnen rechtzeitig vor Veranstaltungsbeginn die Tickets zu. \n\n\n\nZur Sicherheit gleichen Sie die Termine und Uhrzeiten dieser Begegnung noch mit den Listen auf der Website des FC Bayern München ab.
URL:https://office-group.immobilien/event/fc-bayern-muenchen-borussia-moenchengladbach/
CATEGORIES:Teilnehmerplätze
ATTACH;FMTTYPE=image/jpeg:https://office-group.immobilien/wp-content/uploads/2024/08/FC-Bayern-Muenchen.jpg
END:VEVENT
BEGIN:VEVENT
DTSTART;TZID=Europe/Berlin:20260220T000000
DTEND;TZID=Europe/Berlin:20260222T235959
DTSTAMP:20260421T143026
CREATED:20250724T171146Z
LAST-MODIFIED:20250724T171259Z
UID:350620-1771545600-1771804799@office-group.immobilien
SUMMARY:FC Bayern München - Eintracht Frankfurt
DESCRIPTION:Zur Website des FC Bayern München\n\n\n\n\n\n\nAuf dieser Seite können Sie die Anzahl der gewünschten Teilnehmerplätze auswählen. Durch einen Klick auf den Button „Teilnehmen“ wird uns Ihr Reservierungs-Wunsch mitgeteilt. \n\n\n\nBitte beachten Sie: Um möglichst vielen unserer Kunden die Möglichkeit zu bieten\, dieses Angebot wahrzunehmen\, können Sie maximal nur einen Termin mit maximal 4 Teilnehmerplätzen reservieren. Wir prüfen dann die Reservierung und senden Ihnen rechtzeitig vor Veranstaltungsbeginn die Tickets zu. \n\n\n\nZur Sicherheit gleichen Sie die Termine und Uhrzeiten dieser Begegnung noch mit den Listen auf der Website des FC Bayern München ab.
URL:https://office-group.immobilien/event/fc-bayern-muenchen-eintracht-frankfurt/
CATEGORIES:Teilnehmerplätze
ATTACH;FMTTYPE=image/jpeg:https://office-group.immobilien/wp-content/uploads/2024/08/FC-Bayern-Muenchen.jpg
END:VEVENT
BEGIN:VEVENT
DTSTART;TZID=Europe/Berlin:20260206T000000
DTEND;TZID=Europe/Berlin:20260208T235959
DTSTAMP:20260421T143026
CREATED:20250724T171027Z
LAST-MODIFIED:20250724T171134Z
UID:350617-1770336000-1770595199@office-group.immobilien
SUMMARY:FC Bayern München - TSG Hoffenheim
DESCRIPTION:Zur Website des FC Bayern München\n\n\n\n\n\n\nAuf dieser Seite können Sie die Anzahl der gewünschten Teilnehmerplätze auswählen. Durch einen Klick auf den Button „Teilnehmen“ wird uns Ihr Reservierungs-Wunsch mitgeteilt. \n\n\n\nBitte beachten Sie: Um möglichst vielen unserer Kunden die Möglichkeit zu bieten\, dieses Angebot wahrzunehmen\, können Sie maximal nur einen Termin mit maximal 4 Teilnehmerplätzen reservieren. Wir prüfen dann die Reservierung und senden Ihnen rechtzeitig vor Veranstaltungsbeginn die Tickets zu. \n\n\n\nZur Sicherheit gleichen Sie die Termine und Uhrzeiten dieser Begegnung noch mit den Listen auf der Website des FC Bayern München ab.
URL:https://office-group.immobilien/event/fc-bayern-muenchen-tsg-hoffenheim/
CATEGORIES:Teilnehmerplätze
ATTACH;FMTTYPE=image/jpeg:https://office-group.immobilien/wp-content/uploads/2024/08/FC-Bayern-Muenchen.jpg
END:VEVENT
BEGIN:VEVENT
DTSTART;TZID=Europe/Berlin:20260123T000000
DTEND;TZID=Europe/Berlin:20260125T235959
DTSTAMP:20260421T143026
CREATED:20250724T160452Z
LAST-MODIFIED:20250724T164001Z
UID:350583-1769126400-1769385599@office-group.immobilien
SUMMARY:FC Bayern München - FC Augsburg
DESCRIPTION:Zur Website des FC Bayern München\n\n\n\n\n\n\nAuf dieser Seite können Sie die Anzahl der gewünschten Teilnehmerplätze auswählen. Durch einen Klick auf den Button „Teilnehmen“ wird uns Ihr Reservierungs-Wunsch mitgeteilt. \n\n\n\nBitte beachten Sie: Um möglichst vielen unserer Kunden die Möglichkeit zu bieten\, dieses Angebot wahrzunehmen\, können Sie maximal nur einen Termin mit maximal 4 Teilnehmerplätzen reservieren. Wir prüfen dann die Reservierung und senden Ihnen rechtzeitig vor Veranstaltungsbeginn die Tickets zu. \n\n\n\nZur Sicherheit gleichen Sie die Termine und Uhrzeiten dieser Begegnung noch mit den Listen auf der Website des FC Bayern München ab.
URL:https://office-group.immobilien/event/fc-bayern-muenchen-fc-augsburg/
CATEGORIES:Teilnehmerplätze
ATTACH;FMTTYPE=image/jpeg:https://office-group.immobilien/wp-content/uploads/2024/08/FC-Bayern-Muenchen.jpg
END:VEVENT
BEGIN:VEVENT
DTSTART;TZID=Europe/Berlin:20260121T210000
DTEND;TZID=Europe/Berlin:20260121T233000
DTSTAMP:20260421T143026
CREATED:20250901T134045Z
LAST-MODIFIED:20250901T135110Z
UID:350803-1769029200-1769038200@office-group.immobilien
SUMMARY:Champions League FC Bayern München - Royale Union Saint-Gilloise
DESCRIPTION:Auf dieser Seite können Sie die Anzahl der gewünschten Teilnehmerplätze auswählen. Durch einen Klick auf den Button „Teilnehmen“ wird uns Ihr Reservierungs-Wunsch mitgeteilt. \n\n\n\nBitte beachten Sie: Um möglichst vielen unserer Kunden die Möglichkeit zu bieten\, dieses Angebot wahrzunehmen\, können Sie maximal nur einen Termin mit maximal 4 Teilnehmerplätzen reservieren. Wir prüfen dann die Reservierung und senden Ihnen rechtzeitig vor Veranstaltungsbeginn die Tickets zu.\n\n\n\nZur Sicherheit gleichen Sie die Termine und Uhrzeiten dieser Begegnung noch mit den Listen auf der Website des FC Bayern München ab. \n\n\n\nZur Website des FC Bayern München
URL:https://office-group.immobilien/event/champions-league-fc-bayern-muenchen-royale-union-saint-gilloise/
CATEGORIES:Teilnehmerplätze
ATTACH;FMTTYPE=image/jpeg:https://office-group.immobilien/wp-content/uploads/2025/07/Champions-League.jpg
END:VEVENT
BEGIN:VEVENT
DTSTART;TZID=Europe/Berlin:20260109T000000
DTEND;TZID=Europe/Berlin:20260111T235959
DTSTAMP:20260421T143026
CREATED:20250724T170835Z
LAST-MODIFIED:20250724T170947Z
UID:350614-1767916800-1768175999@office-group.immobilien
SUMMARY:FC Bayern München - VfL Wolfsburg
DESCRIPTION:Zur Website des FC Bayern München\n\n\n\n\n\n\nAuf dieser Seite können Sie die Anzahl der gewünschten Teilnehmerplätze auswählen. Durch einen Klick auf den Button „Teilnehmen“ wird uns Ihr Reservierungs-Wunsch mitgeteilt. \n\n\n\nBitte beachten Sie: Um möglichst vielen unserer Kunden die Möglichkeit zu bieten\, dieses Angebot wahrzunehmen\, können Sie maximal nur einen Termin mit maximal 4 Teilnehmerplätzen reservieren. Wir prüfen dann die Reservierung und senden Ihnen rechtzeitig vor Veranstaltungsbeginn die Tickets zu. \n\n\n\nZur Sicherheit gleichen Sie die Termine und Uhrzeiten dieser Begegnung noch mit den Listen auf der Website des FC Bayern München ab.
URL:https://office-group.immobilien/event/fc-bayern-muenchen-vfl-wolfsburg/
CATEGORIES:Teilnehmerplätze
ATTACH;FMTTYPE=image/jpeg:https://office-group.immobilien/wp-content/uploads/2024/08/FC-Bayern-Muenchen.jpg
END:VEVENT
BEGIN:VEVENT
DTSTART;TZID=Europe/Berlin:20251212T000000
DTEND;TZID=Europe/Berlin:20251214T235959
DTSTAMP:20260421T143026
CREATED:20250724T170658Z
LAST-MODIFIED:20250724T170814Z
UID:350611-1765497600-1765756799@office-group.immobilien
SUMMARY:FC Bayern München - 1. FSV Mainz 05
DESCRIPTION:Zur Website des FC Bayern München\n\n\n\n\n\n\nAuf dieser Seite können Sie die Anzahl der gewünschten Teilnehmerplätze auswählen. Durch einen Klick auf den Button „Teilnehmen“ wird uns Ihr Reservierungs-Wunsch mitgeteilt. \n\n\n\nBitte beachten Sie: Um möglichst vielen unserer Kunden die Möglichkeit zu bieten\, dieses Angebot wahrzunehmen\, können Sie maximal nur einen Termin mit maximal 4 Teilnehmerplätzen reservieren. Wir prüfen dann die Reservierung und senden Ihnen rechtzeitig vor Veranstaltungsbeginn die Tickets zu. \n\n\n\nZur Sicherheit gleichen Sie die Termine und Uhrzeiten dieser Begegnung noch mit den Listen auf der Website des FC Bayern München ab.
URL:https://office-group.immobilien/event/fc-bayern-muenchen-1-fsv-mainz-05/
CATEGORIES:Teilnehmerplätze
ATTACH;FMTTYPE=image/jpeg:https://office-group.immobilien/wp-content/uploads/2024/08/FC-Bayern-Muenchen.jpg
END:VEVENT
BEGIN:VEVENT
DTSTART;TZID=Europe/Berlin:20251209T210000
DTEND;TZID=Europe/Berlin:20251209T233000
DTSTAMP:20260421T143026
CREATED:20250901T133809Z
LAST-MODIFIED:20250901T134811Z
UID:350800-1765314000-1765323000@office-group.immobilien
SUMMARY:Champions League FC Bayern München - Sporting Lissabon
DESCRIPTION:Auf dieser Seite können Sie die Anzahl der gewünschten Teilnehmerplätze auswählen. Durch einen Klick auf den Button „Teilnehmen“ wird uns Ihr Reservierungs-Wunsch mitgeteilt. \n\n\n\nBitte beachten Sie: Um möglichst vielen unserer Kunden die Möglichkeit zu bieten\, dieses Angebot wahrzunehmen\, können Sie maximal nur einen Termin mit maximal 4 Teilnehmerplätzen reservieren. Wir prüfen dann die Reservierung und senden Ihnen rechtzeitig vor Veranstaltungsbeginn die Tickets zu.\n\n\n\nZur Sicherheit gleichen Sie die Termine und Uhrzeiten dieser Begegnung noch mit den Listen auf der Website des FC Bayern München ab. \n\n\n\nZur Website des FC Bayern München
URL:https://office-group.immobilien/event/champions-league-fc-bayern-muenchen-sporting-lissabon/
CATEGORIES:Teilnehmerplätze
ATTACH;FMTTYPE=image/jpeg:https://office-group.immobilien/wp-content/uploads/2025/07/Champions-League.jpg
END:VEVENT
BEGIN:VEVENT
DTSTART;TZID=Europe/Berlin:20251128T000000
DTEND;TZID=Europe/Berlin:20251130T235959
DTSTAMP:20260421T143026
CREATED:20250724T170512Z
LAST-MODIFIED:20251021T151119Z
UID:350608-1764288000-1764547199@office-group.immobilien
SUMMARY:FC Bayern München - FC St. Pauli
DESCRIPTION:Zur Website des FC Bayern München\n\n\n\n\n\n\nAuf dieser Seite können Sie die Anzahl der gewünschten Teilnehmerplätze auswählen. Durch einen Klick auf den Button „Teilnehmen“ wird uns Ihr Reservierungs-Wunsch mitgeteilt. \n\n\n\nBitte beachten Sie: Um möglichst vielen unserer Kunden die Möglichkeit zu bieten\, dieses Angebot wahrzunehmen\, können Sie maximal nur einen Termin mit maximal 4 Teilnehmerplätzen reservieren. Wir prüfen dann die Reservierung und senden Ihnen rechtzeitig vor Veranstaltungsbeginn die Tickets zu. \n\n\n\nZur Sicherheit gleichen Sie die Termine und Uhrzeiten dieser Begegnung noch mit den Listen auf der Website des FC Bayern München ab.
URL:https://office-group.immobilien/event/fc-bayern-muenchen-fc-st-pauli/
CATEGORIES:Teilnehmerplätze
ATTACH;FMTTYPE=image/jpeg:https://office-group.immobilien/wp-content/uploads/2024/08/FC-Bayern-Muenchen.jpg
END:VEVENT
BEGIN:VEVENT
DTSTART;TZID=Europe/Berlin:20251121T000000
DTEND;TZID=Europe/Berlin:20251123T235959
DTSTAMP:20260421T143026
CREATED:20250724T170255Z
LAST-MODIFIED:20251106T110241Z
UID:350605-1763683200-1763942399@office-group.immobilien
SUMMARY:FC Bayern München - Sport-club Freiburg
DESCRIPTION:Zur Website des FC Bayern München\n\n\n\n\n\n\nAuf dieser Seite können Sie die Anzahl der gewünschten Teilnehmerplätze auswählen. Durch einen Klick auf den Button „Teilnehmen“ wird uns Ihr Reservierungs-Wunsch mitgeteilt. \n\n\n\nBitte beachten Sie: Um möglichst vielen unserer Kunden die Möglichkeit zu bieten\, dieses Angebot wahrzunehmen\, können Sie maximal nur einen Termin mit maximal 4 Teilnehmerplätzen reservieren. Wir prüfen dann die Reservierung und senden Ihnen rechtzeitig vor Veranstaltungsbeginn die Tickets zu. \n\n\n\nZur Sicherheit gleichen Sie die Termine und Uhrzeiten dieser Begegnung noch mit den Listen auf der Website des FC Bayern München ab.
URL:https://office-group.immobilien/event/fc-bayern-muenchen-sport-club-freiburg/
CATEGORIES:Teilnehmerplätze
ATTACH;FMTTYPE=image/jpeg:https://office-group.immobilien/wp-content/uploads/2024/08/FC-Bayern-Muenchen.jpg
END:VEVENT
BEGIN:VEVENT
DTSTART;TZID=Europe/Berlin:20251031T000000
DTEND;TZID=Europe/Berlin:20251102T235959
DTSTAMP:20260421T143026
CREATED:20250724T165800Z
LAST-MODIFIED:20250724T170029Z
UID:350601-1761868800-1762127999@office-group.immobilien
SUMMARY:FC Bayern München - Bayer 04 Leverkusen
DESCRIPTION:Zur Website des FC Bayern München\n\n\n\n\n\n\nAuf dieser Seite können Sie die Anzahl der gewünschten Teilnehmerplätze auswählen. Durch einen Klick auf den Button „Teilnehmen“ wird uns Ihr Reservierungs-Wunsch mitgeteilt. \n\n\n\nBitte beachten Sie: Um möglichst vielen unserer Kunden die Möglichkeit zu bieten\, dieses Angebot wahrzunehmen\, können Sie maximal nur einen Termin mit maximal 4 Teilnehmerplätzen reservieren. Wir prüfen dann die Reservierung und senden Ihnen rechtzeitig vor Veranstaltungsbeginn die Tickets zu. \n\n\n\nZur Sicherheit gleichen Sie die Termine und Uhrzeiten dieser Begegnung noch mit den Listen auf der Website des FC Bayern München ab.
URL:https://office-group.immobilien/event/fc-bayern-muenchen-bayer-04-leverkusen/
CATEGORIES:Teilnehmerplätze
ATTACH;FMTTYPE=image/jpeg:https://office-group.immobilien/wp-content/uploads/2024/08/FC-Bayern-Muenchen.jpg
END:VEVENT
BEGIN:VEVENT
DTSTART;TZID=Europe/Berlin:20251022T210000
DTEND;TZID=Europe/Berlin:20251022T233000
DTSTAMP:20260421T143026
CREATED:20250901T133335Z
LAST-MODIFIED:20250901T140814Z
UID:350795-1761166800-1761175800@office-group.immobilien
SUMMARY:Champions League FC Bayern München - Club Brugge
DESCRIPTION:Auf dieser Seite können Sie die Anzahl der gewünschten Teilnehmerplätze auswählen. Durch einen Klick auf den Button „Teilnehmen“ wird uns Ihr Reservierungs-Wunsch mitgeteilt. \n\n\n\nBitte beachten Sie: Um möglichst vielen unserer Kunden die Möglichkeit zu bieten\, dieses Angebot wahrzunehmen\, können Sie maximal nur einen Termin mit maximal 4 Teilnehmerplätzen reservieren. Wir prüfen dann die Reservierung und senden Ihnen rechtzeitig vor Veranstaltungsbeginn die Tickets zu.\n\n\n\nZur Sicherheit gleichen Sie die Termine und Uhrzeiten dieser Begegnung noch mit den Listen auf der Website des FC Bayern München ab. \n\n\n\nZur Website des FC Bayern München
URL:https://office-group.immobilien/event/champions-league-fc-bayern-muenchen-club-brugge/
CATEGORIES:Teilnehmerplätze
ATTACH;FMTTYPE=image/jpeg:https://office-group.immobilien/wp-content/uploads/2025/07/Champions-League.jpg
END:VEVENT
BEGIN:VEVENT
DTSTART;TZID=Europe/Berlin:20251017T000000
DTEND;TZID=Europe/Berlin:20251019T235959
DTSTAMP:20260421T143026
CREATED:20250724T165428Z
LAST-MODIFIED:20250724T165708Z
UID:350597-1760659200-1760918399@office-group.immobilien
SUMMARY:FC Bayern München - Borussia Dortmund
DESCRIPTION:Zur Website des FC Bayern München\n\n\n\n\n\n\nAuf dieser Seite können Sie die Anzahl der gewünschten Teilnehmerplätze auswählen. Durch einen Klick auf den Button „Teilnehmen“ wird uns Ihr Reservierungs-Wunsch mitgeteilt. \n\n\n\nBitte beachten Sie: Um möglichst vielen unserer Kunden die Möglichkeit zu bieten\, dieses Angebot wahrzunehmen\, können Sie maximal nur einen Termin mit maximal 4 Teilnehmerplätzen reservieren. Wir prüfen dann die Reservierung und senden Ihnen rechtzeitig vor Veranstaltungsbeginn die Tickets zu. \n\n\n\nZur Sicherheit gleichen Sie die Termine und Uhrzeiten dieser Begegnung noch mit den Listen auf der Website des FC Bayern München ab.
URL:https://office-group.immobilien/event/fc-bayern-muenchen-borussia-dortmund/
CATEGORIES:Teilnehmerplätze
ATTACH;FMTTYPE=image/jpeg:https://office-group.immobilien/wp-content/uploads/2024/08/FC-Bayern-Muenchen.jpg
END:VEVENT
BEGIN:VEVENT
DTSTART;TZID=Europe/Berlin:20250926T000000
DTEND;TZID=Europe/Berlin:20250926T235959
DTSTAMP:20260421T143026
CREATED:20250724T165143Z
LAST-MODIFIED:20250904T132942Z
UID:350594-1758844800-1758931199@office-group.immobilien
SUMMARY:FC Bayern München - SV Werder Bremen
DESCRIPTION:Zur Website des FC Bayern München\n\n\n\n\n\n\nAuf dieser Seite können Sie die Anzahl der gewünschten Teilnehmerplätze auswählen. Durch einen Klick auf den Button „Teilnehmen“ wird uns Ihr Reservierungs-Wunsch mitgeteilt. \n\n\n\nBitte beachten Sie: Um möglichst vielen unserer Kunden die Möglichkeit zu bieten\, dieses Angebot wahrzunehmen\, können Sie maximal nur einen Termin mit maximal 4 Teilnehmerplätzen reservieren. Wir prüfen dann die Reservierung und senden Ihnen rechtzeitig vor Veranstaltungsbeginn die Tickets zu. \n\n\n\nZur Sicherheit gleichen Sie die Termine und Uhrzeiten dieser Begegnung noch mit den Listen auf der Website des FC Bayern München ab.
URL:https://office-group.immobilien/event/fc-bayern-muenchen-sv-werder-bremen/
CATEGORIES:Teilnehmerplätze
ATTACH;FMTTYPE=image/jpeg:https://office-group.immobilien/wp-content/uploads/2024/08/FC-Bayern-Muenchen.jpg
END:VEVENT
BEGIN:VEVENT
DTSTART;TZID=Europe/Berlin:20250917T210000
DTEND;TZID=Europe/Berlin:20250917T233000
DTSTAMP:20260421T143026
CREATED:20250901T133008Z
LAST-MODIFIED:20250917T090054Z
UID:350790-1758142800-1758151800@office-group.immobilien
SUMMARY:Champions League - FC Bayern München - FC Chelsea
DESCRIPTION:Auf dieser Seite können Sie die Anzahl der gewünschten Teilnehmerplätze auswählen. Durch einen Klick auf den Button „Teilnehmen“ wird uns Ihr Reservierungs-Wunsch mitgeteilt. \n\n\n\nBitte beachten Sie: Um möglichst vielen unserer Kunden die Möglichkeit zu bieten\, dieses Angebot wahrzunehmen\, können Sie maximal nur einen Termin mit maximal 4 Teilnehmerplätzen reservieren. Wir prüfen dann die Reservierung und senden Ihnen rechtzeitig vor Veranstaltungsbeginn die Tickets zu.\n\n\n\nZur Sicherheit gleichen Sie die Termine und Uhrzeiten dieser Begegnung noch mit den Listen auf der Website des FC Bayern München ab. \n\n\n\nZur Website des FC Bayern München
URL:https://office-group.immobilien/event/champions-league-fc-bayern-muenchen-fc-chelsea/
CATEGORIES:Teilnehmerplätze
ATTACH;FMTTYPE=image/jpeg:https://office-group.immobilien/wp-content/uploads/2025/07/Champions-League.jpg
END:VEVENT
BEGIN:VEVENT
DTSTART;TZID=Europe/Berlin:20250913T000000
DTEND;TZID=Europe/Berlin:20250913T235959
DTSTAMP:20260421T143026
CREATED:20250724T162304Z
LAST-MODIFIED:20250724T162521Z
UID:350586-1757721600-1757807999@office-group.immobilien
SUMMARY:FC Bayern München - Hamburger SV
DESCRIPTION:Zur Website des FC Bayern München\n\n\n\n\n\n\nAuf dieser Seite können Sie die Anzahl der gewünschten Teilnehmerplätze auswählen. Durch einen Klick auf den Button „Teilnehmen“ wird uns Ihr Reservierungs-Wunsch mitgeteilt. \n\n\n\nBitte beachten Sie: Um möglichst vielen unserer Kunden die Möglichkeit zu bieten\, dieses Angebot wahrzunehmen\, können Sie maximal nur einen Termin mit maximal 4 Teilnehmerplätzen reservieren. Wir prüfen dann die Reservierung und senden Ihnen rechtzeitig vor Veranstaltungsbeginn die Tickets zu. \n\n\n\nZur Sicherheit gleichen Sie die Termine und Uhrzeiten dieser Begegnung noch mit den Listen auf der Website des FC Bayern München ab.
URL:https://office-group.immobilien/event/fc-bayern-muenchen-hamburger-sv/
CATEGORIES:Teilnehmerplätze
ATTACH;FMTTYPE=image/jpeg:https://office-group.immobilien/wp-content/uploads/2024/08/FC-Bayern-Muenchen.jpg
END:VEVENT
BEGIN:VEVENT
DTSTART;TZID=Europe/Berlin:20250822T000000
DTEND;TZID=Europe/Berlin:20250822T235959
DTSTAMP:20260421T143026
CREATED:20250724T164635Z
LAST-MODIFIED:20250724T165026Z
UID:350591-1755820800-1755907199@office-group.immobilien
SUMMARY:FC Bayern München - RB Leipzig
DESCRIPTION:Zur Website des FC Bayern München\n\n\n\n\n\n\nAuf dieser Seite können Sie die Anzahl der gewünschten Teilnehmerplätze auswählen. Durch einen Klick auf den Button „Teilnehmen“ wird uns Ihr Reservierungs-Wunsch mitgeteilt. \n\n\n\nBitte beachten Sie: Um möglichst vielen unserer Kunden die Möglichkeit zu bieten\, dieses Angebot wahrzunehmen\, können Sie maximal nur einen Termin mit maximal 4 Teilnehmerplätzen reservieren. Wir prüfen dann die Reservierung und senden Ihnen rechtzeitig vor Veranstaltungsbeginn die Tickets zu. \n\n\n\nZur Sicherheit gleichen Sie die Termine und Uhrzeiten dieser Begegnung noch mit den Listen auf der Website des FC Bayern München ab.
URL:https://office-group.immobilien/event/fc-bayern-muenchen-rb-leipzig-2/
CATEGORIES:Teilnehmerplätze
ATTACH;FMTTYPE=image/jpeg:https://office-group.immobilien/wp-content/uploads/2024/08/FC-Bayern-Muenchen.jpg
END:VEVENT
END:VCALENDAR